BEGIN:VCALENDAR
VERSION:2.0
PRODID:-//DEEP - ECPv6.15.20//NONSGML v1.0//EN
CALSCALE:GREGORIAN
METHOD:PUBLISH
X-WR-CALNAME:DEEP
X-ORIGINAL-URL:https://dunbaremergency.ca
X-WR-CALDESC:Events for DEEP
REFRESH-INTERVAL;VALUE=DURATION:PT1H
X-Robots-Tag:noindex
X-PUBLISHED-TTL:PT1H
BEGIN:VTIMEZONE
TZID:America/Vancouver
BEGIN:DAYLIGHT
TZOFFSETFROM:-0800
TZOFFSETTO:-0700
TZNAME:PDT
DTSTART:20220313T100000
END:DAYLIGHT
BEGIN:STANDARD
TZOFFSETFROM:-0700
TZOFFSETTO:-0800
TZNAME:PST
DTSTART:20221106T090000
END:STANDARD
BEGIN:DAYLIGHT
TZOFFSETFROM:-0800
TZOFFSETTO:-0700
TZNAME:PDT
DTSTART:20230312T100000
END:DAYLIGHT
BEGIN:STANDARD
TZOFFSETFROM:-0700
TZOFFSETTO:-0800
TZNAME:PST
DTSTART:20231105T090000
END:STANDARD
BEGIN:DAYLIGHT
TZOFFSETFROM:-0800
TZOFFSETTO:-0700
TZNAME:PDT
DTSTART:20240310T100000
END:DAYLIGHT
BEGIN:STANDARD
TZOFFSETFROM:-0700
TZOFFSETTO:-0800
TZNAME:PST
DTSTART:20241103T090000
END:STANDARD
END:VTIMEZONE
BEGIN:VEVENT
DTSTART;TZID=America/Vancouver:20231123T190000
DTEND;TZID=America/Vancouver:20231123T200000
DTSTAMP:20260420T044939
CREATED:20250210T001301Z
LAST-MODIFIED:20250222T082410Z
UID:24563-1700766000-1700769600@dunbaremergency.ca
SUMMARY:Event: Build a Grab & Go Bag plus Map Your Neighbourhood
DESCRIPTION:by John Halldorson\nClick here to see the slideshow used during the event\n \nJoin us for a useful session to learn about Grab & Go bags and mapping your local neighbourhood. \nExpert Tips: Learn from seasoned adventurers and emergency preparedness specialists on what essentials to include in your kit. \nCustomisation: Tailor your kit to your unique needs – whether it’s a spontaneous weekend getaway\, a sudden evacuation\, or facing the unexpected. \nHands-On Demos: Get hands-on experience assembling and organising your Grab and Go Kit components. \nSafety First: Discover life-saving tools\, medical supplies\, and communication devices to ensure you’re ready for any situation. \nQ&A Session: Have burning questions? Our panel of experts will answer all your queries.
URL:https://dunbaremergency.ca/event/event-build-a-grab-go-bag-plus-map-your-neighbourhood/
LOCATION:Dunbar Community Centre\, 4747 Dunbar St\, Vancouver\, BC\, V6S 2H2\, Canada
CATEGORIES:Presentation
END:VEVENT
END:VCALENDAR