BEGIN:VCALENDAR
VERSION:2.0
PRODID:-//DEEP - ECPv6.15.20//NONSGML v1.0//EN
CALSCALE:GREGORIAN
METHOD:PUBLISH
X-WR-CALNAME:DEEP
X-ORIGINAL-URL:https://dunbaremergency.ca
X-WR-CALDESC:Events for DEEP
REFRESH-INTERVAL;VALUE=DURATION:PT1H
X-Robots-Tag:noindex
X-PUBLISHED-TTL:PT1H
BEGIN:VTIMEZONE
TZID:America/Vancouver
BEGIN:DAYLIGHT
TZOFFSETFROM:-0800
TZOFFSETTO:-0700
TZNAME:PDT
DTSTART:20240310T100000
END:DAYLIGHT
BEGIN:STANDARD
TZOFFSETFROM:-0700
TZOFFSETTO:-0800
TZNAME:PST
DTSTART:20241103T090000
END:STANDARD
BEGIN:DAYLIGHT
TZOFFSETFROM:-0800
TZOFFSETTO:-0700
TZNAME:PDT
DTSTART:20250309T100000
END:DAYLIGHT
BEGIN:STANDARD
TZOFFSETFROM:-0700
TZOFFSETTO:-0800
TZNAME:PST
DTSTART:20251102T090000
END:STANDARD
BEGIN:DAYLIGHT
TZOFFSETFROM:-0800
TZOFFSETTO:-0700
TZNAME:PDT
DTSTART:20260308T100000
END:DAYLIGHT
BEGIN:STANDARD
TZOFFSETFROM:-0700
TZOFFSETTO:-0800
TZNAME:PST
DTSTART:20261101T090000
END:STANDARD
BEGIN:DAYLIGHT
TZOFFSETFROM:-0800
TZOFFSETTO:-0700
TZNAME:PDT
DTSTART:20270314T100000
END:DAYLIGHT
BEGIN:STANDARD
TZOFFSETFROM:-0700
TZOFFSETTO:-0800
TZNAME:PST
DTSTART:20271107T090000
END:STANDARD
END:VTIMEZONE
BEGIN:VEVENT
DTSTART;TZID=America/Vancouver:20250423T190000
DTEND;TZID=America/Vancouver:20250423T200000
DTSTAMP:20260422T154708
CREATED:20250408T031511Z
LAST-MODIFIED:20250408T035443Z
UID:25568-1745434800-1745438400@dunbaremergency.ca
SUMMARY:Presentation: Emergency Preparedness and First Aid for Your Pets
DESCRIPTION:Presenters: Lis Jang from Vancouver’s Emergency Support Services & Heather Ferguson from the Canadian Disaster Animal Response Team\nSummary:\nLearn how to plan and prepare to take care of your pet during and after a major disaster. Also learn how to prevent and cope with a medical emergency involving your pet. \nRoom 202 – Dunbar Community Centre
URL:https://dunbaremergency.ca/event/presentation-emergency-preparedness-and-first-aid-for-your-pets-2/
LOCATION:Dunbar Community Centre\, 4747 Dunbar St\, Vancouver\, BC\, V6S 2H2\, Canada
CATEGORIES:Presentation
ATTACH;FMTTYPE=image/jpeg:https://dunbaremergency.ca/wp-content/uploads/2025/04/pet-preparedness.jpg
END:VEVENT
BEGIN:VEVENT
DTSTART;TZID=America/Vancouver:20251018T103000
DTEND;TZID=America/Vancouver:20251018T120000
DTSTAMP:20260422T154708
CREATED:20250924T181935Z
LAST-MODIFIED:20250924T181935Z
UID:25776-1760783400-1760788800@dunbaremergency.ca
SUMMARY:Emergency Radio Training
DESCRIPTION:Dunbar Earthquake and Emergency Planning (DEEP)\, the Pacific Spirit MedVents (Medical Venturers) and Vancouver Emergency Community Telecommunications Organization (VECTOR) invite you to an introductory emergency radio training session on Saturday\, October 18th from 10:30 a.m. until noon. \nThis free training session at the Disaster Support Hub will introduce you to DEEP’s radio operations and give you some basic skills in how to use mobile radios to help out our community at a time of urgent need. \nThe Hub\, located at the basketball court behind the Dunbar Community Centre\, is where community members can gather to exchange information and coordinate their efforts to help each other during a disaster. \nWhen a major disaster such as an earthquake occurs\, our usual communication modes – cell phones\, the internet – may be out of commission for a sustained period. DEEP’s radio operations at the Disaster Support Hub will be critical to the Dunbar community’s ability to obtain and pass on important information to and from regional disaster response authorities. The Hub’s mobile radios will also help community volunteers to coordinate neighbourhood relief efforts including damage assessment\, fire watch\, and local search and rescue. \nPlease register for this free in-person workshop below.
URL:https://dunbaremergency.ca/event/emergency-radio-training/
LOCATION:Dunbar Disaster Support Hub\, 4747 Dunbar Street\, Vancouver\, BC\, V6S 2H2\, Canada
CATEGORIES:Presentation,Workshop
ATTACH;FMTTYPE=image/png:https://dunbaremergency.ca/wp-content/uploads/2025/09/Workshop.png
END:VEVENT
BEGIN:VEVENT
DTSTART;TZID=America/Vancouver:20251106T190000
DTEND;TZID=America/Vancouver:20251106T210000
DTSTAMP:20260422T154708
CREATED:20251028T201121Z
LAST-MODIFIED:20251119T032159Z
UID:25945-1762455600-1762462800@dunbaremergency.ca
SUMMARY:Learn About the 2024 Dunbar Fire and Fire-Resistant Plants
DESCRIPTION:The Dunbar Residents’ Association invites you to attend a talk about the 2024 Dunbar fire\, which has left many unanswered questions. The talk will be presented by a member of Vancouver Fire Rescue Services.  A Vancouver Park Board landscape architect will also discuss fire-resistant plants for your garden. There will be plenty of time for questions. The presentations will be preceded by a brief business meeting.
URL:https://dunbaremergency.ca/event/talk-on-2024-dunbar-fire-and-fire-resistant-plants/
LOCATION:St. Philip’s Anglican Church Gymnasium\, 3737 W. 27th Ave\, Vancouver\, BC\, V6S 1R2\, Canada
CATEGORIES:External event,Presentation
ATTACH;FMTTYPE=image/jpeg:https://dunbaremergency.ca/wp-content/uploads/2025/10/2025_DRA_AGM_poster.jpg
END:VEVENT
BEGIN:VEVENT
DTSTART;TZID=America/Vancouver:20251118T190000
DTEND;TZID=America/Vancouver:20251118T200000
DTSTAMP:20260422T154708
CREATED:20251026T011834Z
LAST-MODIFIED:20251119T053557Z
UID:25914-1763492400-1763496000@dunbaremergency.ca
SUMMARY:Vancouver Emergency Support Services
DESCRIPTION:Dunbar Earthquake and Emergency Preparedness invites you to a 1-hour talk on Tuesday November 18 at 7 p.m. at the Dunbar Community Centre. \nMiranda Myles\, Manager of Community Readiness for Vancouver’s Emergency Management Agency (VEMA) will give an overview of the services provided by the City’s Emergency Support Services (ESS) volunteers during emergencies/disasters such as fires\, floods\, and earthquakes. \nMs. Myles will also update us on VEMA’s work to strengthen our community’s emergency preparedness and resilience. There will be an opportunity to ask questions. \nRegister below for this free in-person talk. Seating will be limited.
URL:https://dunbaremergency.ca/event/vancouver-emergency-support-services/
LOCATION:Dunbar Community Centre\, 4747 Dunbar St\, Vancouver\, BC\, V6S 2H2\, Canada
CATEGORIES:Presentation
ATTACH;FMTTYPE=image/jpeg:https://dunbaremergency.ca/wp-content/uploads/2025/10/IMG_9507.jpg
END:VEVENT
BEGIN:VEVENT
DTSTART;TZID=America/Vancouver:20260121T190000
DTEND;TZID=America/Vancouver:20260121T200000
DTSTAMP:20260422T154708
CREATED:20260110T165558Z
LAST-MODIFIED:20260122T050840Z
UID:26019-1769022000-1769025600@dunbaremergency.ca
SUMMARY:Jumpstart your Household's Emergency Preparedness
DESCRIPTION:Has emergency preparedness been on your ‘to do’ list for awhile? Have you or your family stalled on getting prepared because it feels too overwhelming or time-consuming? \nDunbar Earthquake and Emergency Preparedness invites you to a 1-hour talk by emergency preparedness expert Jackie Kloosterboer on Wednesday January 21 at 7 p.m. at the Dunbar Community Centre\, Room 202. \nCome learn some basic steps to overcome inertia and get your household ready for emergencies such as an extended power outage or an earthquake. Getting prepared doesn’t have to be complicated or costly – even a small amount of preparedness goes a long way! \nJackie brings to this topic over 30 years of experience in emergency preparedness training and providing front line support to people who have been displaced from their homes because of fire or other disasters. She has seen first hand the importance of being prepared\, and will share with us the basic steps we can all take to protect our families and our homes. You can learn more about Jackie’s background on her website: https://www.survive-it.ca/. \nRegister below for this free in-person talk. Seating will be limited.
URL:https://dunbaremergency.ca/event/jumpstart-your-households-emergency-preparedness/
LOCATION:Dunbar Community Centre\, 4747 Dunbar St\, Vancouver\, BC\, V6S 2H2\, Canada
CATEGORIES:Presentation
ATTACH;FMTTYPE=image/jpeg:https://dunbaremergency.ca/wp-content/uploads/2026/01/Jumpstart.jpg
END:VEVENT
BEGIN:VEVENT
DTSTART;TZID=America/Vancouver:20260305T190000
DTEND;TZID=America/Vancouver:20260305T200000
DTSTAMP:20260422T154708
CREATED:20260115T022525Z
LAST-MODIFIED:20260226T014131Z
UID:26103-1772737200-1772740800@dunbaremergency.ca
SUMMARY:B.C. Housing's Rapid Damage Assessment Program - An Introduction
DESCRIPTION:Dunbar Earthquake and Emergency Preparedness (DEEP) invites you to its Annual General Meeting which features a presentation on B.C Housing’s Rapid Damage Assessment Program. The business portion of the meeting will be very brief\, and will be followed by John Halldorson’s introduction to B.C Housing’s Rapid Damage Assessment Program. \nEarthquakes\, floods and windstorms can cause significant damage to structures\, posing serious risks to occupants. Buildings should therefore be assessed for hazards following a disaster\, to determine whether they can be safely entered or occupied. \nAs professionals may not be immediately available to evaluate the structure\, it is important for building owners/occupants to have the skills and training necessary to conduct a Rapid Damage Assessment. B.C. Housing’s Rapid Damage Assessment program is designed to provide non-professionals with the basic skills to identify unsafe conditions in wood frame\, masonry and concrete structures caused by floods\, earthquakes or windstorms. \nJoin DEEP’s John Halldorson for an introduction to this program on Thursday\, March 5 at 7 p.m. at the Dunbar Community Centre (Room 202)\, 4747 Dunbar Street.
URL:https://dunbaremergency.ca/event/b-c-housings-rapid-damage-assessment-program-an-introduction/
LOCATION:Dunbar Community Centre\, 4747 Dunbar St\, Vancouver\, BC\, V6S 2H2\, Canada
CATEGORIES:Presentation
ATTACH;FMTTYPE=image/jpeg:https://dunbaremergency.ca/wp-content/uploads/2026/02/House2-after-earthquake-cropped.jpg
END:VEVENT
END:VCALENDAR