BEGIN:VCALENDAR
VERSION:2.0
PRODID:-//DEEP - ECPv6.15.20//NONSGML v1.0//EN
CALSCALE:GREGORIAN
METHOD:PUBLISH
X-WR-CALNAME:DEEP
X-ORIGINAL-URL:https://dunbaremergency.ca
X-WR-CALDESC:Events for DEEP
REFRESH-INTERVAL;VALUE=DURATION:PT1H
X-Robots-Tag:noindex
X-PUBLISHED-TTL:PT1H
BEGIN:VTIMEZONE
TZID:America/Vancouver
BEGIN:DAYLIGHT
TZOFFSETFROM:-0800
TZOFFSETTO:-0700
TZNAME:PDT
DTSTART:20220313T100000
END:DAYLIGHT
BEGIN:STANDARD
TZOFFSETFROM:-0700
TZOFFSETTO:-0800
TZNAME:PST
DTSTART:20221106T090000
END:STANDARD
BEGIN:DAYLIGHT
TZOFFSETFROM:-0800
TZOFFSETTO:-0700
TZNAME:PDT
DTSTART:20230312T100000
END:DAYLIGHT
BEGIN:STANDARD
TZOFFSETFROM:-0700
TZOFFSETTO:-0800
TZNAME:PST
DTSTART:20231105T090000
END:STANDARD
BEGIN:DAYLIGHT
TZOFFSETFROM:-0800
TZOFFSETTO:-0700
TZNAME:PDT
DTSTART:20240310T100000
END:DAYLIGHT
BEGIN:STANDARD
TZOFFSETFROM:-0700
TZOFFSETTO:-0800
TZNAME:PST
DTSTART:20241103T090000
END:STANDARD
END:VTIMEZONE
BEGIN:VEVENT
DTSTART;TZID=America/Vancouver:20230919T190000
DTEND;TZID=America/Vancouver:20230919T200000
DTSTAMP:20260420T210033
CREATED:20250210T002440Z
LAST-MODIFIED:20250210T025411Z
UID:24567-1695150000-1695153600@dunbaremergency.ca
SUMMARY:Presentation: Burnaby’s Urban Search and Rescue Experience from Earthquake in Turkey
DESCRIPTION:Presenter: Ryan Berry\, Burnaby Urban Search and Rescue\n \nBIO:\nBurnaby USAR Canada was founded in 2011 by Burnaby Fire Captain Mark Pullen and in 2020 became a fully registered charity under the Society Act of British Columbia\, Canada. \nOur team is a non-profit\, self-funded and self-sustaining team and has working experience with flooding\, earthquake and hurricane destruction. The team is composed of professional Firefighters\, Police\, and First Responders who volunteer their time\, to help people in countries that have been affected by natural disasters. \nOur Technical-Search Team is trained to locate buried victims in collapsed buildings and structures and the K-9 teams are trained to detect scent from live or dead victims. The tech team uses Delsar and acoustic life-detecting equipment to find the sounds of buried victims and cameras with microphones to probe void spaces where victims are trapped deep under the surface (ground).
URL:https://dunbaremergency.ca/event/presentation-burnabys-urban-search-and-rescue-experience-from-earthquake-in-turkey/
LOCATION:Dunbar Community Centre\, 4747 Dunbar St\, Vancouver\, BC\, V6S 2H2\, Canada
CATEGORIES:Presentation
END:VEVENT
END:VCALENDAR