BEGIN:VCALENDAR
VERSION:2.0
PRODID:-//DEEP - ECPv6.15.20//NONSGML v1.0//EN
CALSCALE:GREGORIAN
METHOD:PUBLISH
X-WR-CALNAME:DEEP
X-ORIGINAL-URL:https://dunbaremergency.ca
X-WR-CALDESC:Events for DEEP
REFRESH-INTERVAL;VALUE=DURATION:PT1H
X-Robots-Tag:noindex
X-PUBLISHED-TTL:PT1H
BEGIN:VTIMEZONE
TZID:America/Vancouver
BEGIN:DAYLIGHT
TZOFFSETFROM:-0800
TZOFFSETTO:-0700
TZNAME:PDT
DTSTART:20220313T100000
END:DAYLIGHT
BEGIN:STANDARD
TZOFFSETFROM:-0700
TZOFFSETTO:-0800
TZNAME:PST
DTSTART:20221106T090000
END:STANDARD
BEGIN:DAYLIGHT
TZOFFSETFROM:-0800
TZOFFSETTO:-0700
TZNAME:PDT
DTSTART:20230312T100000
END:DAYLIGHT
BEGIN:STANDARD
TZOFFSETFROM:-0700
TZOFFSETTO:-0800
TZNAME:PST
DTSTART:20231105T090000
END:STANDARD
BEGIN:DAYLIGHT
TZOFFSETFROM:-0800
TZOFFSETTO:-0700
TZNAME:PDT
DTSTART:20240310T100000
END:DAYLIGHT
BEGIN:STANDARD
TZOFFSETFROM:-0700
TZOFFSETTO:-0800
TZNAME:PST
DTSTART:20241103T090000
END:STANDARD
END:VTIMEZONE
BEGIN:VEVENT
DTSTART;TZID=America/Vancouver:20230308T190000
DTEND;TZID=America/Vancouver:20230308T200000
DTSTAMP:20260421T064909
CREATED:20250210T030343Z
LAST-MODIFIED:20250210T030343Z
UID:24576-1678302000-1678305600@dunbaremergency.ca
SUMMARY:Presentation: The new Canadian Seismic risk model developed by Natural Resourses Canada
DESCRIPTION:by Dr Tiegan Hobbs\nResearch Scientist at Natural Resources Canada\n \nSUMMARY:\nIn my presentation\, I will describe Canada’s first publicly available Seismic Risk Model. It is a nation-wise risk assessment\, performed at the neighbourhood scale\, meant to empower decision makers and stakeholders with quantitative information. \nBIO:\nTiegan is a seismic risk scientist for the Geological Survey of Canada and an adjunct professor at the University of British Columbia in the Earth\, Ocean\, and Atmospheric Sciences department. She uses various geologic\, geophysical\, and geotechnical datasets to better understand active tectonics and natural hazards. Specifically\, she is interested in understanding how the stresses that cause potentially catastrophic events are accumulated through time and space\, how failure is ultimately initiated\, and what the impacts will be for communities and the built environment. She is leading the development of the scenario earthquake catalogue for Canada’s first National Seismic Risk Model\, including validation of the framework against known standards. \nWith a passion for communicating risk\, Tiegan has written over 20 articles for Temblor Earthquake News. She is a member of the Centre for Natural Hazards Research at Simon Fraser University and serves on the steering committee of the American Geophysical Union Hazards Equity Working Group. Tiegan received her Ph.D. in Geophysics and Masters of Geotechnical Engineering from the Georgia Institute of Technology\, a Masters of Geophysics from the University of Victoria\, and a Bachelors in Geology from McGill University.
URL:https://dunbaremergency.ca/event/presentation-the-new-canadian-seismic-risk-model-developed-by-natural-resourses-canada/
LOCATION:Dunbar Community Centre\, 4747 Dunbar St\, Vancouver\, BC\, V6S 2H2\, Canada
CATEGORIES:Presentation
END:VEVENT
END:VCALENDAR