BEGIN:VCALENDAR
VERSION:2.0
PRODID:-//DEEP - ECPv6.15.20//NONSGML v1.0//EN
CALSCALE:GREGORIAN
METHOD:PUBLISH
X-WR-CALNAME:DEEP
X-ORIGINAL-URL:https://dunbaremergency.ca
X-WR-CALDESC:Events for DEEP
REFRESH-INTERVAL;VALUE=DURATION:PT1H
X-Robots-Tag:noindex
X-PUBLISHED-TTL:PT1H
BEGIN:VTIMEZONE
TZID:America/Vancouver
BEGIN:DAYLIGHT
TZOFFSETFROM:-0800
TZOFFSETTO:-0700
TZNAME:PDT
DTSTART:20210314T100000
END:DAYLIGHT
BEGIN:STANDARD
TZOFFSETFROM:-0700
TZOFFSETTO:-0800
TZNAME:PST
DTSTART:20211107T090000
END:STANDARD
BEGIN:DAYLIGHT
TZOFFSETFROM:-0800
TZOFFSETTO:-0700
TZNAME:PDT
DTSTART:20220313T100000
END:DAYLIGHT
BEGIN:STANDARD
TZOFFSETFROM:-0700
TZOFFSETTO:-0800
TZNAME:PST
DTSTART:20221106T090000
END:STANDARD
BEGIN:DAYLIGHT
TZOFFSETFROM:-0800
TZOFFSETTO:-0700
TZNAME:PDT
DTSTART:20230312T100000
END:DAYLIGHT
BEGIN:STANDARD
TZOFFSETFROM:-0700
TZOFFSETTO:-0800
TZNAME:PST
DTSTART:20231105T090000
END:STANDARD
END:VTIMEZONE
BEGIN:VEVENT
DTSTART;TZID=America/Vancouver:20221116T190000
DTEND;TZID=America/Vancouver:20221116T200000
DTSTAMP:20260421T120351
CREATED:20250210T030853Z
LAST-MODIFIED:20250210T030853Z
UID:24581-1668625200-1668628800@dunbaremergency.ca
SUMMARY:Presentation: Culture and Disasters: A View from Anthropology
DESCRIPTION:by Jonathan Eaton\nUBC Anthropology PhD candidate\n \nSUMMARY:\nThis presentation will discuss how cultural knowledge informs disaster preparedness\, especially in relation to earthquakes in our region. Jonathan will also address the importance of considering community\, heritage\, and sense of place when thinking about disaster response and recovery.\n\nBIO:\nJonathan Eaton is a PhD candidate in Anthropology at UBC whose research sits at the intersection of heritage and disasters\, with a focus on Vancouver neighbourhoods.
URL:https://dunbaremergency.ca/event/presentation-culture-and-disasters-a-view-from-anthropology/
LOCATION:Dunbar Community Centre\, 4747 Dunbar St\, Vancouver\, BC\, V6S 2H2\, Canada
CATEGORIES:Presentation
END:VEVENT
END:VCALENDAR