BEGIN:VCALENDAR
VERSION:2.0
PRODID:-//DEEP - ECPv6.15.20//NONSGML v1.0//EN
CALSCALE:GREGORIAN
METHOD:PUBLISH
X-ORIGINAL-URL:https://dunbaremergency.ca
X-WR-CALDESC:Events for DEEP
REFRESH-INTERVAL;VALUE=DURATION:PT1H
X-Robots-Tag:noindex
X-PUBLISHED-TTL:PT1H
BEGIN:VTIMEZONE
TZID:America/Vancouver
BEGIN:DAYLIGHT
TZOFFSETFROM:-0800
TZOFFSETTO:-0700
TZNAME:PDT
DTSTART:20210314T100000
END:DAYLIGHT
BEGIN:STANDARD
TZOFFSETFROM:-0700
TZOFFSETTO:-0800
TZNAME:PST
DTSTART:20211107T090000
END:STANDARD
BEGIN:DAYLIGHT
TZOFFSETFROM:-0800
TZOFFSETTO:-0700
TZNAME:PDT
DTSTART:20220313T100000
END:DAYLIGHT
BEGIN:STANDARD
TZOFFSETFROM:-0700
TZOFFSETTO:-0800
TZNAME:PST
DTSTART:20221106T090000
END:STANDARD
BEGIN:DAYLIGHT
TZOFFSETFROM:-0800
TZOFFSETTO:-0700
TZNAME:PDT
DTSTART:20230312T100000
END:DAYLIGHT
BEGIN:STANDARD
TZOFFSETFROM:-0700
TZOFFSETTO:-0800
TZNAME:PST
DTSTART:20231105T090000
END:STANDARD
END:VTIMEZONE
BEGIN:VEVENT
DTSTART;TZID=America/Vancouver:20221027T190000
DTEND;TZID=America/Vancouver:20221027T200000
DTSTAMP:20260421T134020
CREATED:20250210T031035Z
LAST-MODIFIED:20250210T031050Z
UID:24583-1666897200-1666900800@dunbaremergency.ca
SUMMARY:Presentation: Tsunami – stealth killers
DESCRIPTION:by Professor John Clague\nEmeritus Professor at Simon Fraser University\n \nSUMMARY:\nIn this century alone\, tsunamis have killed over 250\,000 people\, far more than all earthquakes combined. In my talk\, I review a few of the most deadly tsunamis in recent history and show how tsunamis differ from the most powerful storm-driven waves. I describe the three main causes of tsunamis and discuss the threat they pose to British Columbians. Finally\, I outline the measures in place to provide us with timely warnings.\n\nBIO:\nJohn Clague is Emeritus Professor at Simon Fraser University. He was educated at Occidental College (BA)\, the University of California Berkeley (MA)\, and the University of British Columbia (PhD). Clague worked as a Research Scientist with the Geological Survey of Canada from 1975 until 1998. In 1998 he accepted a faculty position in Department of Earth Sciences at Simon Fraser University\, where he worked until 2016. Clague is a geologist with research specializations in glacial geology\, geomorphology\, natural hazards\, and climate change.
URL:https://dunbaremergency.ca/event/presentation-tsunami-stealth-killers/
LOCATION:Dunbar Community Centre\, 4747 Dunbar St\, Vancouver\, BC\, V6S 2H2\, Canada
CATEGORIES:Presentation
END:VEVENT
END:VCALENDAR